BEGIN:VCALENDAR
VERSION:2.0
PRODID:-//hacksw/handcal//NONSGML v1.0//EN
BEGIN:VEVENT
SUMMARY:Sortie club du mercredi 15 avril 2026
UID:ee2b1bf6-bc76-4a7f-8065-c69f353acfc4
DTSTART:20260415T113000Z
DTEND:20260415T150000Z
LOCATION:Localisation   
CATEGORIES:Entrainement
STATUS:
DESCRIPTION:<p><span
 style="color:rgb(178,26,15);background-color:rgb(196,187,34);"><strong><span
 style="font-size:16pt;">Depart
 8H00</span></strong></span></p>
 
 <p><span
 style="color:rgb(178,26,15);background-color:rgb(196,187,34);"><strong><span
 style="font-size:16pt;">Sigean - Portel - Ripaud - Montplaisir -
 Thezan - St Laurent de la Cabrerisse - Tournissan - Lagrasse pause
 cafe ☕ - Ribaute - Fabrezan - prendre D 611 - les Palais - Thezan
 - Ripaud - Portel - Sigean.</span></strong></span></p>
 
 <p><span
 style="color:rgb(178,26,15);background-color:rgb(196,187,34);"><strong><span
 style="font-size:16pt;">88 kms - 571 D+</span></strong></span></p>
URL;VALUE=URI:https://www.cycloclubsigean.fr/evenements/2026/04/15/sortie-club-du-mercredi-15-avril-2026-2440685
END:VEVENT
END:VCALENDAR
