BEGIN:VCALENDAR
VERSION:2.0
PRODID:-//hacksw/handcal//NONSGML v1.0//EN
BEGIN:VEVENT
SUMMARY:Sortie club du mercredi 8 avril 2026
UID:135fadc5-b28b-486f-b108-6e08c706cf32
DTSTART:20260408T060000Z
DTEND:20260408T103000Z
LOCATION:Localisation   
CATEGORIES:Entrainement
STATUS:
DESCRIPTION:<p> Depart 8h. </p><p>Sigean, Portel, Ripaud, Durban
 pause cafe ☕️, Embres, ST Jean de Barrou, direction Durban,
 Ripaud, Montplaisir, Montseret prendre la traverse direction
 Thezan,ensuite a gauche, Donos, Ripaud, Portel, Sigean. </p><p>86km
 586 metres de denivele</p>
URL;VALUE=URI:https://www.cycloclubsigean.fr/evenements/2026/04/08/sortie-club-du-mercredi-8-avril-2026-2438532
END:VEVENT
END:VCALENDAR
